BEGIN:VCALENDAR
VERSION:2.0
PRODID:-//Squarespace Inc/Squarespace 6//v6//EN
BEGIN:VEVENT
UID:5ca4313e1905f4cb34c3499f@squarespace.com
DTSTAMP:20191115T003319Z
DTSTART:20190515T053000Z
DTEND:20190515T063000Z
SUMMARY:Deliberation Ready Training 2019
END:VEVENT
END:VCALENDAR
